Workbook
Name 単位: [1]その他情報!$B$3:$B$41
Name 単位: その他情報!$B$3:$B$41

Sheet 提出印刷用
R1: 請求日付 | BE1: 取引先→現場→業務→購買→経理
B2: エスデン株式会社 | R2: =IF(入力用!R2="","",入力用!R2) | AC2: =MID(R2,5,2) | AD2: =RIGHT(R2,2) | AE2: =LEFT(R2,4) | AF2: =MONTH(NOW()) -> 9 | AG2: =DAY(NOW()) -> 18 | AH2: =YEAR(NOW())-1 -> 2025 | AU2: TRUE | AX2: 単価契約分請求
AW3: FALSE
B4: 材料費請求書 | R4: 要求部門名 | AO4: 要求番号 | AZ4: 税区分 | BC4: =入力用!BC4 -> 課税
B5: (白黒印刷) | AH5: =VLOOKUP("事業部"&IF(LEFT(V18,2)="","51",LEFT(V18,2)),事業部参照範囲!$A$1:$BE$8,2,FALSE) -> その他情報!$N$3:$N$261 | AZ5: 税率 | BC5: =IF(入力用!BC5="","",入力用!BC5) -> 10 | BE5: %
B7: 取引先所在地・名称 | T7: 管理番号 | AK7: 経 理 | AN7: 購 買 | AW7: 発 行 部
B8: <住所> | E8: 〒 | F8: =入力用!F8 -> 0
B9: =入力用!B9 -> 0 | T9: =入力用!T9 -> 0 | AK9: 担 当 | AT9: 担 当 | BC9: 担 当
B10: =入力用!B10 -> 0
B11: =入力用!B11 -> 0 | T11: ※取引先様で管理したい番号をご自由に入力ください。（20桁以内）
B12: <社名> | E12: =入力用!E12 -> 0
B13: =入力用!B13 -> 0 | R13: ㊞
B14: =入力用!B14 -> 0 | T14: インボイス発行事業者登録番号 | AH14: 非登録 事業者
B15: TEL： | D15: =入力用!D15 -> 0
B16: 取引先コード | L16: =IF(LEN(入力用!L16)>=8,LEFT(RIGHT(入力用!L16,8),1),"") | M16: =IF(LEN(入力用!L16)>=7,LEFT(RIGHT(入力用!L16,7),1),"") | N16: =IF(LEN(入力用!L16)>=6,LEFT(RIGHT(入力用!L16,6),1),"") | O16: =IF(LEN(入力用!L16)>=5,LEFT(RIGHT(入力用!L16,5),1),"") | P16: =IF(LEN(入力用!L16)>=4,LEFT(RIGHT(入力用!L16,4),1),"") | Q16: =IF(LEN(入力用!L16)>=3,LEFT(RIGHT(入力用!L16,3),1),"") | R16: =IF(LEN(入力用!L16)>=2,LEFT(RIGHT(入力用!L16,2),1),"") | S16: =IF(LEN(入力用!L16)>=1,LEFT(RIGHT(入力用!L16,1),1),"") | T16: =IF(LEN(入力用!T16)>=1,LEFT(RIGHT(入力用!T16,1),1),"") -> Ｔ | U16: =IF(LEN(入力用!U16)>=13,LEFT(RIGHT(入力用!U16,13),1),"") | V16: =IF(LEN(入力用!U16)>=12,LEFT(RIGHT(入力用!U16,12),1),"") | W16: =IF(LEN(入力用!U16)>=11,LEFT(RIGHT(入力用!U16,11),1),"") | X16: =IF(LEN(入力用!U16)>=10,LEFT(RIGHT(入力用!U16,10),1),"") | Y16: =IF(LEN(入力用!U16)>=9,LEFT(RIGHT(入力用!U16,9),1),"") | Z16: =IF(LEN(入力用!U16)>=8,LEFT(RIGHT(入力用!U16,8),1),"") | AA16: =IF(LEN(入力用!U16)>=7,LEFT(RIGHT(入力用!U16,7),1),"") | AB16: =IF(LEN(入力用!U16)>=6,LEFT(RIGHT(入力用!U16,6),1),"") | AC16: =IF(LEN(入力用!U16)>=5,LEFT(RIGHT(入力用!U16,5),1),"") | AD16: =IF(LEN(入力用!U16)>=4,LEFT(RIGHT(入力用!U16,4),1),"") | AE16: =IF(LEN(入力用!U16)>=3,LEFT(RIGHT(入力用!U16,3),1),"") | AF16: =IF(LEN(入力用!U16)>=2,LEFT(RIGHT(入力用!U16,2),1),"") | AG16: =IF(LEN(入力用!U16)>=1,LEFT(RIGHT(入力用!U16,1),1),"") | AK16: 納 入 場 所 | AR16: =入力用!AR16 -> 0
B18: 工事名称 | F18: =入力用!F18 -> 0 | AF18: 工事番号 | AJ18: =IF(LEN(入力用!AJ18)>=10,LEFT(RIGHT(入力用!AJ18,10),1),"") | AK18: =IF(LEN(入力用!AJ18)>=9,LEFT(RIGHT(入力用!AJ18,9),1),"") | AL18: =IF(LEN(入力用!AJ18)>=8,LEFT(RIGHT(入力用!AJ18,8),1),"") | AM18: =IF(LEN(入力用!AJ18)>=7,LEFT(RIGHT(入力用!AJ18,7),1),"") | AN18: =IF(LEN(入力用!AJ18)>=6,LEFT(RIGHT(入力用!AJ18,6),1),"") | AO18: =IF(LEN(入力用!AJ18)>=5,LEFT(RIGHT(入力用!AJ18,5),1),"") | AP18: =IF(LEN(入力用!AJ18)>=4,LEFT(RIGHT(入力用!AJ18,4),1),"") | AQ18: =IF(LEN(入力用!AJ18)>=3,LEFT(RIGHT(入力用!AJ18,3),1),"") | AR18: =IF(LEN(入力用!AJ18)>=2,LEFT(RIGHT(入力用!AJ18,2),1),"") | AS18: =IF(LEN(入力用!AJ18)>=1,LEFT(RIGHT(入力用!AJ18,1),1),"")
B19: 品 目 コ ー ド レンタル期間 | P19: 単位 | R19: 数 量 | V19: 単 価 | AE19: 金 額 | AP19: メ ー カ ー コ ー ド | AX19: 納 品 日
B20: 品 名 (上段:マスタ名、下段:手入力名) | AP20: メ ー カ ー 名
B21: =IF(LEN(入力用!B21)>=6,LEFT(RIGHT(入力用!B21,6),1),"") | C21: =IF(LEN(入力用!B21)>=5,LEFT(RIGHT(入力用!B21,5),1),"") | D21: =IF(LEN(入力用!B21)>=4,LEFT(RIGHT(入力用!B21,4),1),"") | E21: =IF(LEN(入力用!B21)>=3,LEFT(RIGHT(入力用!B21,3),1),"") | F21: =IF(LEN(入力用!B21)>=2,LEFT(RIGHT(入力用!B21,2),1),"") | G21: =IF(LEN(入力用!B21)>=1,LEFT(RIGHT(入力用!B21,1),1),"") | I21: =IF(入力用!I21="","",入力用!I21) | L21: =IF(I21<>"","－","") | M21: =IF(入力用!M21="","",入力用!M21) | P21: =入力用!P21 -> 0 | R21: =IF(入力用!R21="","",入力用!R21) | V21: =IF(入力用!V21="","",入力用!V21) | AE21: =IF(入力用!AE21=0,"",入力用!AE21) | AP21: =IF(LEN(入力用!AP21)>=8,LEFT(RIGHT(入力用!AP21,8),1),"") | AQ21: =IF(LEN(入力用!AP21)>=7,LEFT(RIGHT(入力用!AP21,7),1),"") | AR21: =IF(LEN(入力用!AP21)>=6,LEFT(RIGHT(入力用!AP21,6),1),"") | AS21: =IF(LEN(入力用!AP21)>=5,LEFT(RIGHT(入力用!AP21,5),1),"") | AT21: =IF(LEN(入力用!AP21)>=4,LEFT(RIGHT(入力用!AP21,4),1),"") | AU21: =IF(LEN(入力用!AP21)>=3,LEFT(RIGHT(入力用!AP21,3),1),"") | AV21: =IF(LEN(入力用!AP21)>=2,LEFT(RIGHT(入力用!AP21,2),1),"") | AW21: =IF(LEN(入力用!AP21)>=1,LEFT(RIGHT(入力用!AP21,1),1),"") | AX21: 年 月 日
A22: =IF(OR(AND(LEFT($B$21,1)="D",$Q$5="1"),AND(LEFT($B$21,1)="D",$Q$5="2"),,AND(LEFT($B$21,1)="C",$Q$5="3"))=TRUE,"ERROR","") | B22: =入力用!B22 | AP22: =入力用!AP22 | AX22: =IF(LEN(入力用!AX22)>=8,LEFT(RIGHT(入力用!AX22,8),1),"") | AY22: =IF(LEN(入力用!AX22)>=7,LEFT(RIGHT(入力用!AX22,7),1),"") | AZ22: =IF(LEN(入力用!AX22)>=6,LEFT(RIGHT(入力用!AX22,6),1),"") | BA22: =IF(LEN(入力用!AX22)>=5,LEFT(RIGHT(入力用!AX22,5),1),"") | BB22: =IF(LEN(入力用!AX22)>=4,LEFT(RIGHT(入力用!AX22,4),1),"") | BC22: =IF(LEN(入力用!AX22)>=3,LEFT(RIGHT(入力用!AX22,3),1),"") | BD22: =IF(LEN(入力用!AX22)>=2,LEFT(RIGHT(入力用!AX22,2),1),"") | BE22: =IF(LEN(入力用!AX22)>=1,LEFT(RIGHT(入力用!AX22,1),1),"")
B23: =入力用!B23 -> 0
B24: =IF(LEN(入力用!B24)>=6,LEFT(RIGHT(入力用!B24,6),1),"") | C24: =IF(LEN(入力用!B24)>=5,LEFT(RIGHT(入力用!B24,5),1),"") | D24: =IF(LEN(入力用!B24)>=4,LEFT(RIGHT(入力用!B24,4),1),"") | E24: =IF(LEN(入力用!B24)>=3,LEFT(RIGHT(入力用!B24,3),1),"") | F24: =IF(LEN(入力用!B24)>=2,LEFT(RIGHT(入力用!B24,2),1),"") | G24: =IF(LEN(入力用!B24)>=1,LEFT(RIGHT(入力用!B24,1),1),"") | I24: =IF(入力用!I24="","",入力用!I24) | L24: =IF(I24<>"","－","") | M24: =IF(入力用!M24="","",入力用!M24) | P24: =入力用!P24 -> 0 | R24: =IF(入力用!R24="","",入力用!R24) | V24: =IF(入力用!V24="","",入力用!V24) | AE24: =IF(入力用!AE24=0,"",入力用!AE24) | AP24: =IF(LEN(入力用!AP24)>=8,LEFT(RIGHT(入力用!AP24,8),1),"") | AQ24: =IF(LEN(入力用!AP24)>=7,LEFT(RIGHT(入力用!AP24,7),1),"") | AR24: =IF(LEN(入力用!AP24)>=6,LEFT(RIGHT(入力用!AP24,6),1),"") | AS24: =IF(LEN(入力用!AP24)>=5,LEFT(RIGHT(入力用!AP24,5),1),"") | AT24: =IF(LEN(入力用!AP24)>=4,LEFT(RIGHT(入力用!AP24,4),1),"") | AU24: =IF(LEN(入力用!AP24)>=3,LEFT(RIGHT(入力用!AP24,3),1),"") | AV24: =IF(LEN(入力用!AP24)>=2,LEFT(RIGHT(入力用!AP24,2),1),"") | AW24: =IF(LEN(入力用!AP24)>=1,LEFT(RIGHT(入力用!AP24,1),1),"") | AX24: 年 月 日
A25: =IF(OR(AND(LEFT($B$24,1)="D",$Q$5="1"),AND(LEFT($B$24,1)="D",$Q$5="2"),,AND(LEFT($B$24,1)="C",$Q$5="3"))=TRUE,"ERROR","") | B25: =入力用!B25 | AP25: =入力用!AP25 | AX25: =IF(LEN(入力用!AX25)>=8,LEFT(RIGHT(入力用!AX25,8),1),"") | AY25: =IF(LEN(入力用!AX25)>=7,LEFT(RIGHT(入力用!AX25,7),1),"") | AZ25: =IF(LEN(入力用!AX25)>=6,LEFT(RIGHT(入力用!AX25,6),1),"") | BA25: =IF(LEN(入力用!AX25)>=5,LEFT(RIGHT(入力用!AX25,5),1),"") | BB25: =IF(LEN(入力用!AX25)>=4,LEFT(RIGHT(入力用!AX25,4),1),"") | BC25: =IF(LEN(入力用!AX25)>=3,LEFT(RIGHT(入力用!AX25,3),1),"") | BD25: =IF(LEN(入力用!AX25)>=2,LEFT(RIGHT(入力用!AX25,2),1),"") | BE25: =IF(LEN(入力用!AX25)>=1,LEFT(RIGHT(入力用!AX25,1),1),"")
B26: =入力用!B26 -> 0
B27: =IF(LEN(入力用!B27)>=6,LEFT(RIGHT(入力用!B27,6),1),"") | C27: =IF(LEN(入力用!B27)>=5,LEFT(RIGHT(入力用!B27,5),1),"") | D27: =IF(LEN(入力用!B27)>=4,LEFT(RIGHT(入力用!B27,4),1),"") | E27: =IF(LEN(入力用!B27)>=3,LEFT(RIGHT(入力用!B27,3),1),"") | F27: =IF(LEN(入力用!B27)>=2,LEFT(RIGHT(入力用!B27,2),1),"") | G27: =IF(LEN(入力用!B27)>=1,LEFT(RIGHT(入力用!B27,1),1),"") | I27: =IF(入力用!I27="","",入力用!I27) | L27: =IF(I27<>"","－","") | M27: =IF(入力用!M27="","",入力用!M27) | P27: =入力用!P27 -> 0 | R27: =IF(入力用!R27="","",入力用!R27) | V27: =IF(入力用!V27="","",入力用!V27) | AE27: =IF(入力用!AE27=0,"",入力用!AE27) | AP27: =IF(LEN(入力用!AP27)>=8,LEFT(RIGHT(入力用!AP27,8),1),"") | AQ27: =IF(LEN(入力用!AP27)>=7,LEFT(RIGHT(入力用!AP27,7),1),"") | AR27: =IF(LEN(入力用!AP27)>=6,LEFT(RIGHT(入力用!AP27,6),1),"") | AS27: =IF(LEN(入力用!AP27)>=5,LEFT(RIGHT(入力用!AP27,5),1),"") | AT27: =IF(LEN(入力用!AP27)>=4,LEFT(RIGHT(入力用!AP27,4),1),"") | AU27: =IF(LEN(入力用!AP27)>=3,LEFT(RIGHT(入力用!AP27,3),1),"") | AV27: =IF(LEN(入力用!AP27)>=2,LEFT(RIGHT(入力用!AP27,2),1),"") | AW27: =IF(LEN(入力用!AP27)>=1,LEFT(RIGHT(入力用!AP27,1),1),"") | AX27: 年 月 日
A28: =IF(OR(AND(LEFT($B$27,1)="D",$Q$5="1"),AND(LEFT($B$27,1)="D",$Q$5="2"),,AND(LEFT($B$27,1)="C",$Q$5="3"))=TRUE,"ERROR","") | B28: =入力用!B28 | AP28: =入力用!AP28 | AX28: =IF(LEN(入力用!AX28)>=8,LEFT(RIGHT(入力用!AX28,8),1),"") | AY28: =IF(LEN(入力用!AX28)>=7,LEFT(RIGHT(入力用!AX28,7),1),"") | AZ28: =IF(LEN(入力用!AX28)>=6,LEFT(RIGHT(入力用!AX28,6),1),"") | BA28: =IF(LEN(入力用!AX28)>=5,LEFT(RIGHT(入力用!AX28,5),1),"") | BB28: =IF(LEN(入力用!AX28)>=4,LEFT(RIGHT(入力用!AX28,4),1),"") | BC28: =IF(LEN(入力用!AX28)>=3,LEFT(RIGHT(入力用!AX28,3),1),"") | BD28: =IF(LEN(入力用!AX28)>=2,LEFT(RIGHT(入力用!AX28,2),1),"") | BE28: =IF(LEN(入力用!AX28)>=1,LEFT(RIGHT(入力用!AX28,1),1),"")
B29: =入力用!B29 -> 0
B30: =IF(LEN(入力用!B30)>=6,LEFT(RIGHT(入力用!B30,6),1),"") | C30: =IF(LEN(入力用!B30)>=5,LEFT(RIGHT(入力用!B30,5),1),"") | D30: =IF(LEN(入力用!B30)>=4,LEFT(RIGHT(入力用!B30,4),1),"") | E30: =IF(LEN(入力用!B30)>=3,LEFT(RIGHT(入力用!B30,3),1),"") | F30: =IF(LEN(入力用!B30)>=2,LEFT(RIGHT(入力用!B30,2),1),"") | G30: =IF(LEN(入力用!B30)>=1,LEFT(RIGHT(入力用!B30,1),1),"") | I30: =IF(入力用!I30="","",入力用!I30) | L30: =IF(I30<>"","－","") | M30: =IF(入力用!M30="","",入力用!M30) | P30: =入力用!P30 -> 0 | R30: =IF(入力用!R30="","",入力用!R30) | V30: =IF(入力用!V30="","",入力用!V30) | AE30: =IF(入力用!AE30=0,"",入力用!AE30) | AP30: =IF(LEN(入力用!AP30)>=8,LEFT(RIGHT(入力用!AP30,8),1),"") | AQ30: =IF(LEN(入力用!AP30)>=7,LEFT(RIGHT(入力用!AP30,7),1),"") | AR30: =IF(LEN(入力用!AP30)>=6,LEFT(RIGHT(入力用!AP30,6),1),"") | AS30: =IF(LEN(入力用!AP30)>=5,LEFT(RIGHT(入力用!AP30,5),1),"") | AT30: =IF(LEN(入力用!AP30)>=4,LEFT(RIGHT(入力用!AP30,4),1),"") | AU30: =IF(LEN(入力用!AP30)>=3,LEFT(RIGHT(入力用!AP30,3),1),"") | AV30: =IF(LEN(入力用!AP30)>=2,LEFT(RIGHT(入力用!AP30,2),1),"") | AW30: =IF(LEN(入力用!AP30)>=1,LEFT(RIGHT(入力用!AP30,1),1),"") | AX30: 年 月 日
A31: =IF(OR(AND(LEFT($B$30,1)="D",$Q$5="1"),AND(LEFT($B$30,1)="D",$Q$5="2"),,AND(LEFT($B$30,1)="C",$Q$5="3"))=TRUE,"ERROR","") | B31: =入力用!B31 | AP31: =入力用!AP31 | AX31: =IF(LEN(入力用!AX31)>=8,LEFT(RIGHT(入力用!AX31,8),1),"") | AY31: =IF(LEN(入力用!AX31)>=7,LEFT(RIGHT(入力用!AX31,7),1),"") | AZ31: =IF(LEN(入力用!AX31)>=6,LEFT(RIGHT(入力用!AX31,6),1),"") | BA31: =IF(LEN(入力用!AX31)>=5,LEFT(RIGHT(入力用!AX31,5),1),"") | BB31: =IF(LEN(入力用!AX31)>=4,LEFT(RIGHT(入力用!AX31,4),1),"") | BC31: =IF(LEN(入力用!AX31)>=3,LEFT(RIGHT(入力用!AX31,3),1),"") | BD31: =IF(LEN(入力用!AX31)>=2,LEFT(RIGHT(入力用!AX31,2),1),"") | BE31: =IF(LEN(入力用!AX31)>=1,LEFT(RIGHT(入力用!AX31,1),1),"")
B32: =入力用!B32 -> 0
B33: =IF(LEN(入力用!B33)>=6,LEFT(RIGHT(入力用!B33,6),1),"") | C33: =IF(LEN(入力用!B33)>=5,LEFT(RIGHT(入力用!B33,5),1),"") | D33: =IF(LEN(入力用!B33)>=4,LEFT(RIGHT(入力用!B33,4),1),"") | E33: =IF(LEN(入力用!B33)>=3,LEFT(RIGHT(入力用!B33,3),1),"") | F33: =IF(LEN(入力用!B33)>=2,LEFT(RIGHT(入力用!B33,2),1),"") | G33: =IF(LEN(入力用!B33)>=1,LEFT(RIGHT(入力用!B33,1),1),"") | I33: =IF(入力用!I33="","",入力用!I33) | L33: =IF(I33<>"","－","") | M33: =IF(入力用!M33="","",入力用!M33) | P33: =入力用!P33 -> 0 | R33: =IF(入力用!R33="","",入力用!R33) | V33: =IF(入力用!V33="","",入力用!V33) | AE33: =IF(入力用!AE33=0,"",入力用!AE33) | AP33: =IF(LEN(入力用!AP33)>=8,LEFT(RIGHT(入力用!AP33,8),1),"") | AQ33: =IF(LEN(入力用!AP33)>=7,LEFT(RIGHT(入力用!AP33,7),1),"") | AR33: =IF(LEN(入力用!AP33)>=6,LEFT(RIGHT(入力用!AP33,6),1),"") | AS33: =IF(LEN(入力用!AP33)>=5,LEFT(RIGHT(入力用!AP33,5),1),"") | AT33: =IF(LEN(入力用!AP33)>=4,LEFT(RIGHT(入力用!AP33,4),1),"") | AU33: =IF(LEN(入力用!AP33)>=3,LEFT(RIGHT(入力用!AP33,3),1),"") | AV33: =IF(LEN(入力用!AP33)>=2,LEFT(RIGHT(入力用!AP33,2),1),"") | AW33: =IF(LEN(入力用!AP33)>=1,LEFT(RIGHT(入力用!AP33,1),1),"") | AX33: 年 月 日
A34: =IF(OR(AND(LEFT($B$33,1)="D",$Q$5="1"),AND(LEFT($B$33,1)="D",$Q$5="2"),,AND(LEFT($B$33,1)="C",$Q$5="3"))=TRUE,"ERROR","") | B34: =入力用!B34 | AP34: =入力用!AP34 | AX34: =IF(LEN(入力用!AX34)>=8,LEFT(RIGHT(入力用!AX34,8),1),"") | AY34: =IF(LEN(入力用!AX34)>=7,LEFT(RIGHT(入力用!AX34,7),1),"") | AZ34: =IF(LEN(入力用!AX34)>=6,LEFT(RIGHT(入力用!AX34,6),1),"") | BA34: =IF(LEN(入力用!AX34)>=5,LEFT(RIGHT(入力用!AX34,5),1),"") | BB34: =IF(LEN(入力用!AX34)>=4,LEFT(RIGHT(入力用!AX34,4),1),"") | BC34: =IF(LEN(入力用!AX34)>=3,LEFT(RIGHT(入力用!AX34,3),1),"") | BD34: =IF(LEN(入力用!AX34)>=2,LEFT(RIGHT(入力用!AX34,2),1),"") | BE34: =IF(LEN(入力用!AX34)>=1,LEFT(RIGHT(入力用!AX34,1),1),"")
B35: =入力用!B35 -> 0
B36: 注意 | AB36: 合 計 | AE36: =IF(入力用!AE36=0,"",入力用!AE36) | AP36: 消 費 税 | AU36: =IF(入力用!AU36=0,"",入力用!AU36)
B37: １． | C37: 納品締切日 毎月10日(2,4,8,12月は月初)請求書は現場に提出のこと。
B38: ２． | C38: 単価・数量・金額は整数で記入願います。 | AB38: 【注記】納品日が工番竣工月以後(または請求日付が工番竣工月の3ヶ月超)の場合は、備考欄に理由を記入願います。
B39: ３． | C39: 税率ごとに区分し異なる場合は請求書を分けて記入願います。 | AB39: 備考 | AE39: =入力用!AE39 -> 0
B40: No. | D40: =入力用!D40 -> 0

Sheet 入力用
R1: 請求日付 | BE1: 取引先→現場→業務→購買→経理
B2: エスデン株式会社 | AC2: =MID(R2,5,2) | AD2: =RIGHT(R2,2) | AE2: =LEFT(R2,4) | AF2: =MONTH(NOW()) -> 9 | AG2: =DAY(NOW()) -> 18 | AH2: =YEAR(NOW())-1 -> 2025 | AU2: TRUE | AX2: 単価契約分請求
AW3: FALSE
B4: 材料費請求書 | R4: 要求部門名 | W4: 弊社記入欄 | AO4: 要求番号 | AZ4: 税区分 | BC4: 課税
AZ5: 税率 | BC5: 10 | BE5: %
B7: 取引先所在地・名称 | T7: 管理番号 | AK7: 経 理 | AN7: 購 買 | AW7: 発 行 部
B8: <住所> | E8: 〒
AK9: 担 当 | AT9: 担 当 | BC9: 担 当
T11: ※取引先様で管理したい番号をご自由に入力ください。（20桁以内）
B12: <社名>
T14: インボイス発行事業者登録番号 | AH14: 非登録事業者
B15: TEL：
B16: 取引先コード | T16: Ｔ | AK16: 納 入 場 所
AI17: FALSE
B18: 工事名称 | AF18: 工事番号
B19: 品 目 コ ー ド レンタル期間 | P19: 単位 | R19: 数 量 | V19: 単 価 | AE19: 金 額 | AP19: メ ー カ ー コ ー ド | AX19: 納 品 日
B20: 品 名 (上段:マスタ名、下段:手入力名) | AP20: メ ー カ ー 名
L21: =IF(I21<>"","－","") | AE21: =IF(V21=0,"",R21*V21) | AX21: 年 月 日
A22: =IF(OR(AND(LEFT($B$21,1)="D",$Q$5="1"),AND(LEFT($B$21,1)="D",$Q$5="2"),,AND(LEFT($B$21,1)="C",$Q$5="3"))=TRUE,"ERROR","") | B22: =IF(B21="","",IF(ISERROR(VLOOKUP(B21,品目マスタ!$A$3:$B$1000,2,FALSE)),"品目コード間違い",VLOOKUP(B21,品目マスタ!$A$3:$B$1000,2,FALSE))) | AP22: =IF(AP21="","",IF(ISERROR(VLOOKUP(AP21,メーカーマスタ!$A$3:$C$1000,2,FALSE)),"メーカーコード間違い",VLOOKUP(AP21,メーカーマスタ!$A$3:$C$1000,2,FALSE)))
L24: =IF(I24<>"","－","") | AE24: =IF(V24=0,"",R24*V24) | AX24: 年 月 日
A25: =IF(OR(AND(LEFT($B$24,1)="D",$Q$5="1"),AND(LEFT($B$24,1)="D",$Q$5="2"),,AND(LEFT($B$24,1)="C",$Q$5="3"))=TRUE,"ERROR","") | B25: =IF(B24="","",IF(ISERROR(VLOOKUP(B24,品目マスタ!$A$3:$B$1000,2,FALSE)),"品目コード間違い",VLOOKUP(B24,品目マスタ!$A$3:$B$1000,2,FALSE))) | AP25: =IF(AP24="","",IF(ISERROR(VLOOKUP(AP24,メーカーマスタ!$A$3:$C$1000,2,FALSE)),"メーカーコード間違い",VLOOKUP(AP24,メーカーマスタ!$A$3:$C$1000,2,FALSE)))
L27: =IF(I27<>"","－","") | AE27: =IF(V27=0,"",R27*V27) | AX27: 年 月 日
A28: =IF(OR(AND(LEFT($B$27,1)="D",$Q$5="1"),AND(LEFT($B$27,1)="D",$Q$5="2"),,AND(LEFT($B$27,1)="C",$Q$5="3"))=TRUE,"ERROR","") | B28: =IF(B27="","",IF(ISERROR(VLOOKUP(B27,品目マスタ!$A$3:$B$1000,2,FALSE)),"品目コード間違い",VLOOKUP(B27,品目マスタ!$A$3:$B$1000,2,FALSE))) | AP28: =IF(AP27="","",IF(ISERROR(VLOOKUP(AP27,メーカーマスタ!$A$3:$C$1000,2,FALSE)),"メーカーコード間違い",VLOOKUP(AP27,メーカーマスタ!$A$3:$C$1000,2,FALSE)))
L30: =IF(I30<>"","－","") | AE30: =IF(V30=0,"",R30*V30) | AX30: 年 月 日
A31: =IF(OR(AND(LEFT($B$30,1)="D",$Q$5="1"),AND(LEFT($B$30,1)="D",$Q$5="2"),,AND(LEFT($B$30,1)="C",$Q$5="3"))=TRUE,"ERROR","") | B31: =IF(B30="","",IF(ISERROR(VLOOKUP(B30,品目マスタ!$A$3:$B$1000,2,FALSE)),"品目コード間違い",VLOOKUP(B30,品目マスタ!$A$3:$B$1000,2,FALSE))) | AP31: =IF(AP30="","",IF(ISERROR(VLOOKUP(AP30,メーカーマスタ!$A$3:$C$1000,2,FALSE)),"メーカーコード間違い",VLOOKUP(AP30,メーカーマスタ!$A$3:$C$1000,2,FALSE)))
L33: =IF(I33<>"","－","") | AE33: =IF(V33=0,"",R33*V33) | AX33: 年 月 日
A34: =IF(OR(AND(LEFT($B$33,1)="D",$Q$5="1"),AND(LEFT($B$33,1)="D",$Q$5="2"),,AND(LEFT($B$33,1)="C",$Q$5="3"))=TRUE,"ERROR","") | B34: =IF(B33="","",IF(ISERROR(VLOOKUP(B33,品目マスタ!$A$3:$B$1000,2,FALSE)),"品目コード間違い",VLOOKUP(B33,品目マスタ!$A$3:$B$1000,2,FALSE))) | AP34: =IF(AP33="","",IF(ISERROR(VLOOKUP(AP33,メーカーマスタ!$A$3:$C$1000,2,FALSE)),"メーカーコード間違い",VLOOKUP(AP33,メーカーマスタ!$A$3:$C$1000,2,FALSE)))
B36: 注意 | AB36: 合 計 | AE36: =SUM(AE21:AO35) -> 0 | AP36: 消 費 税 | AU36: =ROUND(AE36*BC5/100,0) -> 0
B37: １． | C37: 納品締切日 毎月10日(2,4,8,12月は月初)請求書は現場に提出のこと。
B38: ２． | C38: 単価・数量・金額は整数で記入願います。 | AB38: 【注記】納品日が工番竣工月以後(または請求日付が工番竣工月の3ヶ月超)の場合は、備考欄に理由を記入願います。
B39: ３． | C39: 税率ごとに区分し異なる場合は請求書を分けて記入願います。 | AB39: 備考
B40: No.

Sheet 記入要領
A1: 【記入要領】 | R1: 請求日付 | BE1: 取引先→現場→業務→購買→経理
B2: エスデン株式会社 | AC2: =MID(R2,5,2) | AD2: =RIGHT(R2,2) | AE2: =LEFT(R2,4) | AF2: =MONTH(NOW()) -> 9 | AG2: =DAY(NOW()) -> 18 | AH2: =YEAR(NOW())-1 -> 2025 | AU2: TRUE | AX2: 単価契約分請求
AW3: FALSE
B4: 材料費請求書 | R4: 要求部門名 | W4: 弊社記入欄 | AO4: 要求番号 | AZ4: 税区分 | BC4: 課税
AH5: =VLOOKUP("事業部"&IF(LEFT(F18,2)="","51",LEFT(F18,2)),[1]事業部参照範囲!$A$1:$BE$18,2,FALSE) -> その他情報!$U$3:$U$94 | AZ5: 税率 | BC5: 10 | BE5: %
B7: 取引先所在地・名称 | T7: 管理番号 | AK7: 経 理 | AN7: 購 買 | AW7: 発 行 部
B8: <住所> | E8: 〒
AK9: 担 当 | AT9: 担 当 | BC9: 担 当
T11: ※取引先様で管理したい番号をご自由に入力ください。（20桁以内）
B12: <社名>
R13: ㊞
T14: インボイス発行事業者登録番号 | AH14: 非登録事業者
B15: TEL：
B16: 取引先コード | T16: Ｔ | AK16: 納入場所
AI17: FALSE
B18: 工事名称 | AF18: 工事番号
B19: 品 目 コ ー ド レンタル期間 | P19: 単位 | R19: 数 量 | V19: 単 価 | AE19: 金 額 | AP19: メ ー カ ー コ ー ド | AX19: 納 品 日
B20: 品 名 (上段:マスタ名、下段:手入力名) | AP20: メ ー カ ー 名
L21: =IF(I21<>"","－","") | AE21: =R21*V21 -> 0 | AX21: 年 月 日
A22: =IF(OR(AND(LEFT($B$21,1)="D",$Q$5="1"),AND(LEFT($B$21,1)="D",$Q$5="2"),,AND(LEFT($B$21,1)="C",$Q$5="3"))=TRUE,"ERROR","") | B22: =IF(B21="","",IF($AJ$18="",VLOOKUP(B21,[1]品目マスタ!$A$3:$B$2000,2,FALSE),IF(COUNTIF(INDIRECT($AH$5),B21),IF(ISERROR(VLOOKUP(B21,[1]品目マスタ!$A$3:$B$2000,2,FALSE)),"品目コード間違い",VLOOKUP(B21,[1]品目マスタ!$A$3:$B$2000,2,FALSE)),"品目コード間違い"))) | AP22: =IF(AP21="","",IF(ISERROR(VLOOKUP(AP21,[1]メーカーマスタ!$A$3:$B$1000,2,FALSE)),"メーカーコード間違い",VLOOKUP(AP21,[1]メーカーマスタ!$A$3:$B$1000,2,FALSE)))
L24: =IF(I24<>"","－","") | AE24: =R24*V24 -> 0 | AX24: 年 月 日
A25: =IF(OR(AND(LEFT($B$24,1)="D",$Q$5="1"),AND(LEFT($B$24,1)="D",$Q$5="2"),,AND(LEFT($B$24,1)="C",$Q$5="3"))=TRUE,"ERROR","") | B25: =IF(B24="","",IF($AJ$18="",VLOOKUP(B24,[1]品目マスタ!$A$3:$B$2000,2,FALSE),IF(COUNTIF(INDIRECT($AH$5),B24),IF(ISERROR(VLOOKUP(B24,[1]品目マスタ!$A$3:$B$2000,2,FALSE)),"品目コード間違い",VLOOKUP(B24,[1]品目マスタ!$A$3:$B$2000,2,FALSE)),"品目コード間違い"))) | AP25: =IF(AP24="","",IF(ISERROR(VLOOKUP(AP24,[1]メーカーマスタ!$A$3:$B$1000,2,FALSE)),"メーカーコード間違い",VLOOKUP(AP24,[1]メーカーマスタ!$A$3:$B$1000,2,FALSE)))
L27: =IF(I27<>"","－","") | AE27: =R27*V27 -> 0 | AX27: 年 月 日
A28: =IF(OR(AND(LEFT($B$27,1)="D",$Q$5="1"),AND(LEFT($B$27,1)="D",$Q$5="2"),,AND(LEFT($B$27,1)="C",$Q$5="3"))=TRUE,"ERROR","") | B28: =IF(B27="","",IF($AJ$18="",VLOOKUP(B27,[1]品目マスタ!$A$3:$B$2000,2,FALSE),IF(COUNTIF(INDIRECT($AH$5),B27),IF(ISERROR(VLOOKUP(B27,[1]品目マスタ!$A$3:$B$2000,2,FALSE)),"品目コード間違い",VLOOKUP(B27,[1]品目マスタ!$A$3:$B$2000,2,FALSE)),"品目コード間違い"))) | AP28: =IF(AP27="","",IF(ISERROR(VLOOKUP(AP27,[1]メーカーマスタ!$A$3:$B$1000,2,FALSE)),"メーカーコード間違い",VLOOKUP(AP27,[1]メーカーマスタ!$A$3:$B$1000,2,FALSE)))
L30: =IF(I30<>"","－","") | AE30: =R30*V30 -> 0 | AX30: 年 月 日
A31: =IF(OR(AND(LEFT($B$30,1)="D",$Q$5="1"),AND(LEFT($B$30,1)="D",$Q$5="2"),,AND(LEFT($B$30,1)="C",$Q$5="3"))=TRUE,"ERROR","") | B31: =IF(B30="","",IF($AJ$18="",VLOOKUP(B30,[1]品目マスタ!$A$3:$B$2000,2,FALSE),IF(COUNTIF(INDIRECT($AH$5),B30),IF(ISERROR(VLOOKUP(B30,[1]品目マスタ!$A$3:$B$2000,2,FALSE)),"品目コード間違い",VLOOKUP(B30,[1]品目マスタ!$A$3:$B$2000,2,FALSE)),"品目コード間違い"))) | AP31: =IF(AP30="","",IF(ISERROR(VLOOKUP(AP30,[1]メーカーマスタ!$A$3:$B$1000,2,FALSE)),"メーカーコード間違い",VLOOKUP(AP30,[1]メーカーマスタ!$A$3:$B$1000,2,FALSE)))
L33: =IF(I33<>"","－","") | AE33: =R33*V33 -> 0 | AX33: 年 月 日
A34: =IF(OR(AND(LEFT($B$33,1)="D",$Q$5="1"),AND(LEFT($B$33,1)="D",$Q$5="2"),,AND(LEFT($B$33,1)="C",$Q$5="3"))=TRUE,"ERROR","") | B34: =IF(B33="","",IF($AJ$18="",VLOOKUP(B33,[1]品目マスタ!$A$3:$B$2000,2,FALSE),IF(COUNTIF(INDIRECT($AH$5),B33),IF(ISERROR(VLOOKUP(B33,[1]品目マスタ!$A$3:$B$2000,2,FALSE)),"品目コード間違い",VLOOKUP(B33,[1]品目マスタ!$A$3:$B$2000,2,FALSE)),"品目コード間違い"))) | AP34: =IF(AP33="","",IF(ISERROR(VLOOKUP(AP33,[1]メーカーマスタ!$A$3:$B$1000,2,FALSE)),"メーカーコード間違い",VLOOKUP(AP33,[1]メーカーマスタ!$A$3:$B$1000,2,FALSE)))
B36: 注意 | AB36: 合 計 | AE36: =SUM(AE21:AO35) -> 0 | AP36: 消 費 税 | AU36: =ROUND(AE36*BC5/100,0) -> 0
B37: １． | C37: 納品締切日 毎月10日(2,4,8,12月は月初)請求書は現場に提出のこと。
B38: ２． | C38: 単価・数量・金額は整数で記入願います。 | AB38: 【注記】納品日が工番竣工月以後(または請求日付が工番竣工月の3ヶ月超)の場合は、備考欄に理由を記入願います。
B39: ３． | C39: 税率ごとに区分し異なる場合は請求書を分けて記入願います。 | AB39: 備考
B40: No.
B43: ①請求日付：入力例 2023/8/10の場合→20230810
B44: ※請求日付には、検収〆日までの日付（作成日）を入力ください
B46: ②取引先所在地・名称：貴社の住所、社名、電話番号（印刷後に社印押印、電子印は不可）
B48: ③取引先コード：8桁のコードを入力ください
B50: ④管理番号：20桁以内の番号 ※必要に応じて、貴社の管理番号などを入力ください
B52: ⑤インボイス発行事業者登録番号：貴社のインボイス発行事業者登録番号 「Ｔ」を除く13桁をご入力ください
D53: 非登録事業者の場合は「✓」を付けてください
...

Sheet 提出方法・注意事項
A1: 【提出方法】
A3: ①「入力用」シートの太枠箇所の入力後、「提出印刷用」シートを白黒印刷し
A4: 社印の押印（電子印は不可）をお願いします
A6: ②社印を押印した原紙を担当者にお渡しください
A7: （納品書・明細書・見積書等はクリップ止め）
A9: ③貴社控えはコピー等でご対応お願いします
A11: （検収締め日）
B12: ・４月、８月、１２月、２月は１日〆
B13: ・上記以外の月は１０日〆
A15: 【注意事項】
A17: ・「品目マスタ」「メーカーマスタ」は定期的に更新を行います
A19: ・伝票に品名、品目を記載できない場合は、
A20: 確証となる納品書、明細書、見積書等を添付願います
A22: ・単価契約の請求時には、単価契約見積書のコピー及び納入進捗表を
A23: 添付願います
A25: ・取引先所在地・名称、銀行口座が変わる場合、変更手続きが必要となります。
A26: 弊社担当者までご連絡ください

Sheet 品目マスタ
A1: 品目マスタ（R_ITEM) 2026/09/16時点
A2: 品目CD | B2: 品目名 | C2: コード
A3: 225012 | B3: 材料費：機械工具類 | C3: 225012
A4: 226012 | B4: 材料費：電線・ケーブル類 | C4: 226012
A5: 227012 | B5: 材料費：接続材料 | C5: 227012
A6: 228011 | B6: 材料費：マイクロ鉄塔 | C6: 228011
A7: 230012 | B7: 材料費：コンクリート材料 | C7: 230012
A8: 231012 | B8: 材料費：木材及び加工品 | C8: 231012
A9: 232012 | B9: 材料費：塗料関係 | C9: 232012
A10: 233012 | B10: 材料費：接地材 | C10: 233012
A11: 251012 | B11: 材料費：架線材料 | C11: 251012
A12: 253012 | B12: 材料費：鋼材加工品 | C12: 253012
A13: 307011 | B13: 材料費：鉄塔 | C13: 307011
A14: 701011 | B14: 材料費：特高受変電機器 | C14: 701011
... A76: 737902 | B76: 材料費：その他一般材料 | C76: 737902
A77: B12301 | B77: 外注費：外注材料費 | C77: B12301
A78: B12302 | B78: 外注費：外注工費 | C78: B12302
A79: B12303 | B79: 外注費：外注経費 | C79: B12303
A80: C40102 | B80: 仮設経費：仮設物組立解体費 | C80: C40102
A81: C40104 | B81: 仮設経費：仮設材料修繕費 | C81: C40104
A82: C40105 | B82: 仮設経費：賦金 | C82: C40105
A83: C40178 | B83: 仮設経費：レンタル料１年未満 | C83: C40178
A84: C40179 | B84: 仮設経費：レンタル料１年以上 | C84: C40179
A85: C40188 | B85: 仮設経費：リース費用（仮設物賃借料） | C85: C40188
A86: C40199 | B86: 仮設経費：その他 | C86: C40199
A87: C40201 | B87: 動力用水光熱費：電気代 | C87: C40201
A88: C40202 | B88: 動力用水光熱費：ガス料 | C88: C40202
... A261: D62999 | B261: 雑費：その他 | C261: D62999

Sheet メーカーマスタ
A1: メーカーマスタ（R_MAKER) 2026/09/16時点
A2: メーカーCD | B2: メーカー名 | C2: コード
A3: 90010001 | B3: 日本光機工業（株） | C3: 90010001
A4: 90010101 | B4: 北日本電線（株） | C4: 90010101
A5: 90010201 | B5: （株）東京電機 | C5: 90010201
A6: 90010301 | B6: 日立建機（株） | C6: 90010301
A7: 90010401 | B7: （株）佐山製作所 | C7: 90010401
A8: 90010501 | B8: 三井精機工業（株） | C8: 90010501
A9: 90010601 | B9: センタック（株） | C9: 90010601
A10: 90010701 | B10: 共和電機産業（株） | C10: 90010701
A11: 90010801 | B11: 北海道大崎電気（株） | C11: 90010801
A12: 90011101 | B12: パナソニック（株） | C12: 90011101
A13: 90011201 | B13: 三菱電機（株） | C13: 90011201
A14: 90011301 | B14: （株）日立製作所 | C14: 90011301
... A545: 98000001 | B545: 未 定 | C545: 98000001

Sheet その他情報
B1: 区分管理マスタ（R_DV_ADMIN) 2026/09/16時点 | G1: 品目利用事業部マスタ（R_ITEM_USE_DIVISION) 2026/09/16時点
B2: 単位 | G2: 事業部CD | H2: 品目CD | J2: 11 | K2: 21 | L2: 31 | M2: 41 | N2: 51 | O2: 61 | P2: 71
B3: 個 | E3: =RIGHT(H3,1) -> 2 | G3: 11 | H3: 225012 | J3: 225012 | K3: 225012 | L3: 225012 | M3: 225012 | N3: 225012 | O3: 225012 | P3: 225012
B4: 面 | E4: =RIGHT(H4,1) -> 2 | G4: 11 | H4: 226012 | J4: 226012 | K4: 226012 | L4: 226012 | M4: 226012 | N4: 226012 | O4: 226012 | P4: 226012
B5: ケ | E5: =RIGHT(H5,1) -> 2 | G5: 11 | H5: 227012 | J5: 227012 | K5: 227012 | L5: 227012 | M5: 227012 | N5: 227012 | O5: 227012 | P5: 227012
B6: 枚 | E6: =RIGHT(H6,1) -> 1 | G6: 11 | H6: 228011 | J6: 228011 | K6: 228011 | L6: 228011 | M6: 228011 | N6: 228011 | O6: 228011 | P6: 228011
B7: ｍ | E7: =RIGHT(H7,1) -> 2 | G7: 11 | H7: 230012 | J7: 230012 | K7: 230012 | L7: 230012 | M7: 230012 | N7: 230012 | O7: 230012 | P7: 230012
B8: 本 | E8: =RIGHT(H8,1) -> 2 | G8: 11 | H8: 231012 | J8: 231012 | K8: 231012 | L8: 231012 | M8: 231012 | N8: 231012 | O8: 231012 | P8: 231012
B9: 組 | E9: =RIGHT(H9,1) -> 2 | G9: 11 | H9: 232012 | J9: 232012 | K9: 232012 | L9: 232012 | M9: 232012 | N9: 232012 | O9: 232012 | P9: 232012
B10: 式 | E10: =RIGHT(H10,1) -> 2 | G10: 11 | H10: 233012 | J10: 233012 | K10: 233012 | L10: 233012 | M10: 233012 | N10: 233012 | O10: 233012 | P10: 233012
B11: 台 | E11: =RIGHT(H11,1) -> 2 | G11: 11 | H11: 251012 | J11: 251012 | K11: 251012 | L11: 251012 | M11: 251012 | N11: 251012 | O11: 251012 | P11: 251012
B12: ｾｯﾄ | E12: =RIGHT(H12,1) -> 2 | G12: 11 | H12: 253012 | J12: 253012 | K12: 253012 | L12: 253012 | M12: 253012 | N12: 253012 | O12: 253012 | P12: 253012
B13: ヶ所 | E13: =RIGHT(H13,1) -> 1 | G13: 11 | H13: 307011 | J13: 307011 | K13: 307011 | L13: 307011 | M13: 307011 | N13: 307011 | O13: 307011 | P13: 307011
B14: ｹｰｽ | E14: =RIGHT(H14,1) -> 1 | G14: 11 | H14: 701011 | J14: 701011 | K14: 701011 | L14: 701011 | M14: 701011 | N14: 701011 | O14: 701011 | P14: 701011
... B41: 箱 | E41: =RIGHT(H41,1) -> 1 | G41: 11 | H41: 717141 | J41: 717141 | K41: 717141 | L41: 717141 | M41: 717141 | N41: 717141 | O41: 717141 | P41: 717141
E42: =RIGHT(H42,1) -> 1 | G42: 11 | H42: 717151 | J42: 717151 | K42: 717151 | L42: 717151 | M42: 717151 | N42: 717151 | O42: 717151 | P42: 717151
E43: =RIGHT(H43,1) -> 1 | G43: 11 | H43: 717321 | J43: 717321 | K43: 717321 | L43: 717321 | M43: 717321 | N43: 717321 | O43: 717321 | P43: 717321
E44: =RIGHT(H44,1) -> 1 | G44: 11 | H44: 717511 | J44: 717511 | K44: 717511 | L44: 717511 | M44: 717511 | N44: 717511 | O44: 717511 | P44: 717511
E45: =RIGHT(H45,1) -> 1 | G45: 11 | H45: 718011 | J45: 718011 | K45: 718011 | L45: 718011 | M45: 718011 | N45: 718011 | O45: 718011 | P45: 718011
E46: =RIGHT(H46,1) -> 1 | G46: 11 | H46: 719011 | J46: 719011 | K46: 719011 | L46: 719011 | M46: 719011 | N46: 719011 | O46: 719011 | P46: 719011
E47: =RIGHT(H47,1) -> 1 | G47: 11 | H47: 719811 | J47: 719811 | K47: 719811 | L47: 719811 | M47: 719811 | N47: 719811 | O47: 719811 | P47: 719811
E48: =RIGHT(H48,1) -> 1 | G48: 11 | H48: 719901 | J48: 719901 | K48: 719901 | L48: 719901 | M48: 719901 | N48: 719901 | O48: 719901 | P48: 719901
E49: =RIGHT(H49,1) -> 2 | G49: 11 | H49: 720012 | J49: 720012 | K49: 720012 | L49: 720012 | M49: 720012 | N49: 720012 | O49: 720012 | P49: 720012
E50: =RIGHT(H50,1) -> 2 | G50: 11 | H50: 720062 | J50: 720062 | K50: 720062 | L50: 720062 | M50: 720062 | N50: 720062 | O50: 720062 | P50: 720062
E51: =RIGHT(H51,1) -> 2 | G51: 11 | H51: 720082 | J51: 720082 | K51: 720082 | L51: 720082 | M51: 720082 | N51: 720082 | O51: 720082 | P51: 720082
E52: =RIGHT(H52,1) -> 1 | G52: 11 | H52: 721011 | J52: 721011 | K52: 721011 | L52: 721011 | M52: 721011 | N52: 721011 | O52: 721011 | P52: 721011
E53: =RIGHT(H53,1) -> 2 | G53: 11 | H53: 722012 | J53: 722012 | K53: 722012 | L53: 722012 | M53: 722012 | N53: 722012 | O53: 722012 | P53: 722012
... E76: =RIGHT(H76,1) -> 2 | G76: 11 | H76: 737902 | J76: 737902 | K76: 737902 | L76: 737902 | M76: 737902 | N76: 737902 | O76: 737902 | P76: 737902
E77: =RIGHT(H77,1) -> 1 | G77: 11 | H77: B12301 | J77: B12301 | K77: B12301 | L77: B12301 | M77: B12301 | N77: B12301 | O77: B12301 | P77: B12301
E78: =RIGHT(H78,1) -> 2 | G78: 11 | H78: B12302 | J78: B12302 | K78: B12302 | L78: B12302 | M78: B12302 | N78: B12302 | O78: B12302 | P78: B12302
E79: =RIGHT(H79,1) -> 3 | G79: 11 | H79: B12303 | J79: B12303 | K79: B12303 | L79: B12303 | M79: B12303 | N79: B12303 | O79: B12303 | P79: B12303
E80: =RIGHT(H80,1) -> 2 | G80: 11 | H80: C40102 | J80: C40102 | K80: C40102 | L80: C40102 | M80: C40102 | N80: C40102 | O80: C40102 | P80: C40102
E81: =RIGHT(H81,1) -> 4 | G81: 11 | H81: C40104 | J81: C40104 | K81: C40104 | L81: C40104 | M81: C40104 | N81: C40104 | O81: C40104 | P81: C40104
E82: =RIGHT(H82,1) -> 5 | G82: 11 | H82: C40105 | J82: C40105 | K82: C40105 | L82: C40105 | M82: C40105 | N82: C40105 | O82: C40105 | P82: C40105
E83: =RIGHT(H83,1) -> 8 | G83: 11 | H83: C40178 | J83: C40178 | K83: C40178 | L83: C40178 | M83: C40178 | N83: C40178 | O83: C40178 | P83: C40178
E84: =RIGHT(H84,1) -> 9 | G84: 11 | H84: C40179 | J84: C40179 | K84: C40179 | L84: C40179 | M84: C40179 | N84: C40179 | O84: C40179 | P84: C40179
E85: =RIGHT(H85,1) -> 8 | G85: 11 | H85: C40188 | J85: C40188 | K85: C40188 | L85: C40188 | M85: C40188 | N85: C40188 | O85: C40188 | P85: C40188
E86: =RIGHT(H86,1) -> 9 | G86: 11 | H86: C40199 | J86: C40199 | K86: C40199 | L86: C40199 | M86: C40199 | N86: C40199 | O86: C40199 | P86: C40199
E87: =RIGHT(H87,1) -> 1 | G87: 11 | H87: C40201 | J87: C40201 | K87: C40201 | L87: C40201 | M87: C40201 | N87: C40201 | O87: C40201 | P87: C40201
E88: =RIGHT(H88,1) -> 2 | G88: 11 | H88: C40202 | J88: C40202 | K88: C40202 | L88: C40202 | M88: C40202 | N88: C40202 | O88: C40202 | P88: C40202
...

Sheet 事業部参照範囲
A1: 事業部11 | B1: {="その他情報!$J$3:$J$"&LOOKUP(2,1/(その他情報!J:J<>""),ROW(その他情報!J:J))} -> その他情報!$J$3:$J$261
A2: 事業部21 | B2: {="その他情報!$K$3:$K$"&LOOKUP(2,1/(その他情報!K:K<>""),ROW(その他情報!K:K))} -> その他情報!$K$3:$K$261
A3: 事業部31 | B3: {="その他情報!$L$3:$L$"&LOOKUP(2,1/(その他情報!L:L<>""),ROW(その他情報!L:L))} -> その他情報!$L$3:$L$261
A4: 事業部41 | B4: {="その他情報!$M$3:$M$"&LOOKUP(2,1/(その他情報!M:M<>""),ROW(その他情報!M:M))} -> その他情報!$M$3:$M$261
A5: 事業部51 | B5: {="その他情報!$N$3:$N$"&LOOKUP(2,1/(その他情報!N:N<>""),ROW(その他情報!N:N))} -> その他情報!$N$3:$N$261
A6: 事業部61 | B6: {="その他情報!$O$3:$O$"&LOOKUP(2,1/(その他情報!O:O<>""),ROW(その他情報!O:O))} -> その他情報!$O$3:$O$261
A7: 事業部71 | B7: {="その他情報!$P$3:$P$"&LOOKUP(2,1/(その他情報!P:P<>""),ROW(その他情報!P:P))} -> その他情報!$P$3:$P$261
